BEGIN:VCALENDAR
VERSION:2.0
PRODID:-//Centro Cultural Franco Bissau Guineense - ECPv6.1.1//NONSGML v1.0//EN
CALSCALE:GREGORIAN
METHOD:PUBLISH
X-ORIGINAL-URL:https://www.ccfbg.net
X-WR-CALDESC:Events for Centro Cultural Franco Bissau Guineense
REFRESH-INTERVAL;VALUE=DURATION:PT1H
X-Robots-Tag:noindex
X-PUBLISHED-TTL:PT1H
BEGIN:VTIMEZONE
TZID:UTC
BEGIN:STANDARD
TZOFFSETFROM:+0000
TZOFFSETTO:+0000
TZNAME:UTC
DTSTART:20260101T000000
END:STANDARD
END:VTIMEZONE
BEGIN:VEVENT
DTSTART;TZID=UTC:20260423T190000
DTEND;TZID=UTC:20260423T210000
DTSTAMP:20260421T043654
CREATED:20260311T132716Z
LAST-MODIFIED:20260311T132716Z
UID:2517-1776970800-1776978000@www.ccfbg.net
SUMMARY:Quintas de Cinema — Bigger Than Us
DESCRIPTION:Quintas de Cinema — Bigger Than UsQuinta-feira\, 23 de abril · 19h · Centro Cultural Franco-Bissau-Guineense \nO Centro Cultural Franco-Bissau-Guineense apresenta Bigger Than Us\, um documentário realizado por Flore Vasseur\, em inglès com legendas em português. Esta sessão das Quintas de Cinema integra-se na programação especial do mês de abril dedicada ao Dia Mundial da Terra\, durante a qual o cinema permite refletir sobre o ambiente\, a justiça social\, o desenvolvimento sustentável e o papel das novas gerações na transformação do mundo. \nTítulo : Bigger Than UsRealização : Flore VasseurAno : 2021Duração : 1h36Língua : inglês\, com legendas em portuguêsIdade recomendada : 12 anos ou mais \nMelati\, uma jovem ativista indonésia\, luta desde criança contra a poluição plástica que ameaça o seu país. Aos 18 anos\, decide viajar pelo mundo para encontrar outros jovens que\, como ela\, estão a agir para proteger o planeta e defender os direitos humanos. Do Líbano ao Malawi\, passando pelos Estados Unidos\, Grécia ou Brasil\, Bigger Than Us acompanha uma nova geração de cidadãos empenhados que se recusam a aceitar as injustiças e procuram construir soluções para um futuro mais justo e sustentável. \nBande-annonce :https://www.youtube.com/watch?v=2Z7kJ3Yf8zA \nJeudis Cinéma — Bigger Than UsJeudi 23 avril · 19h · Centre Culturel Franco-Bissau-Guinéen \nLe Centre Culturel Franco-Bissau-Guinéen présente Bigger Than Us\, un documentaire réalisé par Flore Vasseur\, en anglais sous-titré en portugais. Cette séance des Jeudis Cinéma s’inscrit dans la programmation spéciale du mois d’avril autour de la Journée mondiale de la Terre\, durant laquelle le cinéma permet d’aborder les enjeux liés à l’environnement\, au développement durable et à l’engagement citoyen. \nTitre : Bigger Than UsRéalisation : Flore VasseurAnnée : 2021Durée : 1h36Langue : anglais\, sous-titré en portugaisÂge recommandé : 12 ans et plus \nÀ 18 ans\, Melati a déjà passé plusieurs années à lutter contre la pollution plastique en Indonésie. Elle part à la rencontre de jeunes militants à travers le monde qui\, chacun dans leur domaine\, agissent pour défendre l’environnement\, les droits humains ou l’accès à l’éducation. Bigger Than Us dresse le portrait inspirant d’une génération engagée\, déterminée à faire évoluer la société et à imaginer un avenir plus durable. \nBande-annonce :https://www.youtube.com/watch?v=2Z7kJ3Yf8zA
URL:https://www.ccfbg.net/index.php/eventos/quintas-de-cinema-bigger-than-us/
LOCATION:Centro Cultural Franco-Bissau-Guineense\, Praça Che Guevara\, Bissau\, 129\, Guiné-Bissau
CATEGORIES:cinema,meio ambiente
ATTACH;FMTTYPE=image/jpeg:https://www.ccfbg.net/wp-content/uploads/2026/03/Bigger-than-us-1.jpg
END:VEVENT
BEGIN:VEVENT
DTSTART;TZID=UTC:20260429T190000
DTEND;TZID=UTC:20260429T210000
DTSTAMP:20260421T043654
CREATED:20260205T172920Z
LAST-MODIFIED:20260205T172920Z
UID:2425-1777489200-1777496400@www.ccfbg.net
SUMMARY:Journée Mondiale de la Danse - projection du film "En corps" réalisé par Cédric Klapisch.
DESCRIPTION:📣 Projection exceptionnelle à l’occasion de la Journée mondiale de la danse\n\n\n\n\n\n\n\n\n\n\nÀ l’occasion de la Journée mondiale de la danse\, le Centre culturel propose une projection exceptionnelle mercredi 29 avril à 19h. \n🎬 Projection du film En Corps\, réalisé par Cédric Klapisch. \nLe film suit Élise\, danseuse classique dont la carrière est brutalement interrompue par une blessure. Sa rencontre avec une compagnie de danse contemporaine l’entraîne vers une nouvelle manière de vivre\, de créer et de se réinventer à travers le mouvement. \n🎥 Bande-annonce : https://www.youtube.com/watch?v=WMqIkiI6fAA🗣️  \nFilm présenté en français\, sous-titré en français⏱️ Durée : 2h00👥 Âge conseillé : à partir de 12 ans \n🎟️ Entrée libre \n📣 Sessão excecional por ocasião do Dia Mundial da Dança \nPor ocasião do Dia Mundial da Dança\, o Centro Cultural apresenta uma sessão excecional quarta-feira\, 29 de abril\, às 19h. \n🎬 Exibição do filme En Corps\, realizado por Cédric Klapisch. \nO filme acompanha Élise\, uma bailarina clássica cuja carreira é interrompida por uma lesão. O encontro com uma companhia de dança contemporânea abre caminho para uma nova forma de viver\, criar e dançar. \n🎥 Trailer: https://www.youtube.com/watch?v=WMqIkiI6fAA🗣️ Filme em francês\, com legendas em francês⏱️ Duração: 2h00👥 Idade recomendada: a partir dos 12 anos \n🎟️ Entrada livre
URL:https://www.ccfbg.net/index.php/eventos/journee-mondiale-de-la-danse-projection-du-film-en-corps-realise-par-cedric-klapisch/
LOCATION:Centro Cultural Franco-Bissau-Guineense\, Praça Che Guevara\, Bissau\, 129\, Guiné-Bissau
CATEGORIES:cinema
ATTACH;FMTTYPE=image/jpeg:https://www.ccfbg.net/wp-content/uploads/2026/02/media-1-1.jpg
END:VEVENT
BEGIN:VEVENT
DTSTART;TZID=UTC:20260430T190000
DTEND;TZID=UTC:20260430T210000
DTSTAMP:20260421T043654
CREATED:20260311T132929Z
LAST-MODIFIED:20260312T084429Z
UID:2520-1777575600-1777582800@www.ccfbg.net
SUMMARY:Quintas de Cinema — Rouge
DESCRIPTION:Quintas de Cinema — RougeQuinta-feira\, 30 de abril · 19h · Centro Cultural Franco-Bissau-Guineense \nO Centro Cultural Franco-Bissau-Guineense apresenta Rouge\, um filme realizado por Farid Bentoumi\, em francês com legendas em português. Esta sessão das Quintas de Cinema integra-se na programação especial do mês de abril dedicada ao Dia Mundial da Terra\, durante a qual o cinema permite refletir sobre questões ambientais\, poluição industrial\, responsabilidade social e desenvolvimento sustentável. \nTítulo : RougeRealização : Farid BentoumiAno : 2020Duração : 1h28Língua : francês\, com legendas em portuguêsIdade recomendada : 12 anos ou mais \nNour acaba de começar a trabalhar como enfermeira na fábrica química onde o seu pai é um dos dirigentes sindicais mais respeitados. Quando uma jornalista investiga um caso de poluição industrial que afeta a região\, Nour descobre que a fábrica pode estar a esconder práticas perigosas para o ambiente e para a saúde das populações. Entre lealdade familiar\, solidariedade com os trabalhadores e exigência de verdade\, ela vê-se confrontada com escolhas difíceis. Rouge é um thriller social que aborda os conflitos entre emprego\, saúde pública e proteção do meio ambiente. \nBande-annonce :https://www.youtube.com/watch?v=3R0WgKq7x4E \nJeudis Cinéma — RougeJeudi 30 avril · 19h · Centre Culturel Franco-Bissau-Guinéen \nLe Centre Culturel Franco-Bissau-Guinéen présente Rouge\, un film de Farid Bentoumi\, en français sous-titré en portugais. Cette séance des Jeudis Cinéma s’inscrit dans la programmation spéciale du mois d’avril autour de la Journée mondiale de la Terre\, durant laquelle le cinéma permet d’aborder les enjeux liés à la pollution industrielle\, à la responsabilité environnementale et aux choix de société face aux défis écologiques. \nTitre : RougeRéalisation : Farid BentoumiAnnée : 2020Durée : 1h28Langue : français\, sous-titré en portugaisÂge recommandé : 12 ans et plus \nNour\, une jeune infirmière\, commence à travailler dans l’usine chimique où son père est une figure syndicale respectée. Lorsqu’une journaliste enquête sur des rejets toxiques qui polluent la région\, Nour découvre que l’entreprise pourrait dissimuler des pratiques dangereuses pour l’environnement et la santé des habitants. Confrontée à des dilemmes personnels et moraux\, elle doit choisir entre loyauté\, vérité et justice. Rouge est un thriller social intense qui questionne les liens entre industrie\, emploi et protection de l’environnement. \nBande-annonce :https://www.youtube.com/watch?v=3R0WgKq7x4E
URL:https://www.ccfbg.net/index.php/eventos/quintas-de-cinema-rouge/
LOCATION:Centro Cultural Franco-Bissau-Guineense\, Praça Che Guevara\, Bissau\, 129\, Guiné-Bissau
CATEGORIES:cinema,meio ambiente
ATTACH;FMTTYPE=image/jpeg:https://www.ccfbg.net/wp-content/uploads/2026/03/ROUGE_AFFICHE-1.jpg
END:VEVENT
END:VCALENDAR