BEGIN:VCALENDAR
VERSION:2.0
PRODID:-//Centro Cultural Franco Bissau Guineense - ECPv6.1.1//NONSGML v1.0//EN
CALSCALE:GREGORIAN
METHOD:PUBLISH
X-ORIGINAL-URL:https://www.ccfbg.net
X-WR-CALDESC:Events for Centro Cultural Franco Bissau Guineense
REFRESH-INTERVAL;VALUE=DURATION:PT1H
X-Robots-Tag:noindex
X-PUBLISHED-TTL:PT1H
BEGIN:VTIMEZONE
TZID:UTC
BEGIN:STANDARD
TZOFFSETFROM:+0000
TZOFFSETTO:+0000
TZNAME:UTC
DTSTART:20260101T000000
END:STANDARD
END:VTIMEZONE
BEGIN:VEVENT
DTSTART;TZID=UTC:20260403T190000
DTEND;TZID=UTC:20260403T223000
DTSTAMP:20260420T111120
CREATED:20260331T123812Z
LAST-MODIFIED:20260331T123812Z
UID:2544-1775242800-1775255400@www.ccfbg.net
SUMMARY:O Riso e a Faca - sessão organizada no âmbito do Festival de Cinema Europeu
DESCRIPTION:Rodado na Guiné-Bissau\, entre rostos\, paisagens e histórias profundamente enraizadas no território\, O Riso e a Faca\, do realizador português Pedro Pinho\, é uma das obras mais marcantes do cinema contemporâneo recente. Apresentado no Festival de Cannes em 2025\, o filme constrói um olhar sensível e exigente sobre as relações humanas\, os equilíbrios de poder e as ambiguidades do mundo contemporâneo\, numa narrativa que cruza intimidade e dimensão política.\n\n\nO público da Guiné-Bissau terá uma oportunidade rara de descobrir esta obra no grande ecrã\, num momento privilegiado de encontro com o cinema e com aqueles que o fazem.\n\n\nA sessão terá lugar na sexta-feira\, 3 de abril\, às 19h00\, no Centro Cultural Franco-Bissau-Guineense\, com entrada gratuita\, e contará com a presença do realizador e de membros da equipa artística. O filme será exibido em português e crioulo\, com legendas em francês. Este filme destina-se a um público adulto.\n\n\nEsta sessão insere-se no Festival Europeu de Cinema 2026 na Guiné-Bissau\, organizado pela Delegação da União Europeia em parceria com as Embaixadas de Espanha\, França e Portugal\, o Camões – Centro Cultural Português\, o Centro Cultural Franco-Bissau-Guineense e o Instituto Guimarães Rosa (Brasil).\n\n\nO festival decorre de 28 de março a 22 de maio de 2026 em várias regiões do país\, com uma programação que articula cinema europeu contemporâneo\, obras inéditas e clássicos do património cinematográfico guineense. A iniciativa visa promover a diversidade cultural\, incentivar o diálogo entre cinematografias e reforçar as ligações entre a União Europeia e a Guiné-Bissau\, nomeadamente através de coproduções e ações de formação dirigidas a profissionais do setor audiovisual.\n\n\nAo longo do festival\, o público poderá igualmente participar em sessões comentadas e djumbais com realizadores e convidados\, criando espaços de troca e reflexão em torno de temas como memória\, independência\, identidades culturais e transformações sociais.\n\n\nTodas as projeções são gratuitas e abertas ao público\, convidando a uma verdadeira viagem cinematográfica através de histórias\, olhares e sensibilidades diversas.
URL:https://www.ccfbg.net/index.php/eventos/o-riso-e-a-faca-sessao-organizada-no-ambito-do-festival-de-cinema-europeu/
LOCATION:Centro Cultural Franco-Bissau-Guineense\, Praça Che Guevara\, Bissau\, 129\, Guiné-Bissau
CATEGORIES:cinema
ATTACH;FMTTYPE=image/jpeg:https://www.ccfbg.net/wp-content/uploads/2026/03/riso2.jpeg
END:VEVENT
END:VCALENDAR