BEGIN:VCALENDAR
VERSION:2.0
PRODID:-//Centro Cultural Franco Bissau Guineense - ECPv6.1.1//NONSGML v1.0//EN
CALSCALE:GREGORIAN
METHOD:PUBLISH
X-ORIGINAL-URL:https://www.ccfbg.net
X-WR-CALDESC:Events for Centro Cultural Franco Bissau Guineense
REFRESH-INTERVAL;VALUE=DURATION:PT1H
X-Robots-Tag:noindex
X-PUBLISHED-TTL:PT1H
BEGIN:VTIMEZONE
TZID:UTC
BEGIN:STANDARD
TZOFFSETFROM:+0000
TZOFFSETTO:+0000
TZNAME:UTC
DTSTART:20260101T000000
END:STANDARD
END:VTIMEZONE
BEGIN:VEVENT
DTSTART;TZID=UTC:20260312T190000
DTEND;TZID=UTC:20260312T210000
DTSTAMP:20260419T134314
CREATED:20260309T143112Z
LAST-MODIFIED:20260309T143112Z
UID:2491-1773342000-1773349200@www.ccfbg.net
SUMMARY:MARINETTE – Jeudis Cinéma
DESCRIPTION:No âmbito da programação especial dedicada às lutas das mulheres\, organizada ao longo de todo o mês de março\, o Centro Cultural Franco-Bissau-Guineense apresenta uma nova sessão dos Jeudis Cinéma. \nNa quinta-feira 12 de março às 19h\, venha descobrir Marinette\, um filme inspirado na vida extraordinária de Marinette Pichon\, pioneira do futebol feminino francês. \nCriada num ambiente familiar difícil\, Marinette cresce com uma paixão absoluta pelo futebol. Determinada e talentosa\, ela supera obstáculos pessoais\, sociais e desportivos para se tornar uma das maiores jogadoras da história do futebol feminino. Entre a luta por reconhecimento\, a busca pela liberdade e o desejo de viver plenamente a sua identidade\, o filme retrata o percurso de uma mulher que abriu caminho para toda uma geração. \nRealizado por Virginie Verrier\, Marinette é um retrato forte e inspirador de coragem\, resiliência e emancipação feminina. \nDuração: 96 minutosIdade indicativa: a partir de 12 anosIdioma: filme em francês com legendas em português \nEntrada livre\, sujeita aos lugares disponíveis. \nMARINETTE – Jeudis Cinéma \nDans le cadre de la programmation spéciale consacrée aux luttes des femmes\, proposée tout au long du mois de mars\, le Centre Culturel Franco-Bissau-Guinéen vous invite à une nouvelle séance des Jeudis Cinéma. \nLe jeudi 12 mars à 19h\, venez découvrir Marinette\, un film inspiré de la vie exceptionnelle de Marinette Pichon\, pionnière du football féminin français. \nÉlevée dans un contexte familial difficile\, Marinette grandit avec une passion absolue pour le football. Déterminée et talentueuse\, elle surmonte les obstacles personnels\, sociaux et sportifs pour devenir l’une des plus grandes joueuses de l’histoire du football féminin. Entre quête de reconnaissance\, lutte pour la liberté et affirmation de son identité\, le film retrace le parcours d’une femme qui a ouvert la voie à toute une génération. \nRéalisé par Virginie Verrier\, Marinette propose un portrait puissant et inspirant de courage\, de résilience et d’émancipation. \nDurée : 96 minutesÂge indicatif : à partir de 12 ansLangue : film en français sous-titré en portugais \nEntrée libre dans la limite des places disponibles.
URL:https://www.ccfbg.net/index.php/eventos/marinette-jeudis-cinema/
LOCATION:Centro Cultural Franco-Bissau-Guineense\, Praça Che Guevara\, Bissau\, 129\, Guiné-Bissau
CATEGORIES:cinema
ATTACH;FMTTYPE=image/jpeg:https://www.ccfbg.net/wp-content/uploads/2026/03/Marinette.jpeg
END:VEVENT
END:VCALENDAR