BEGIN:VCALENDAR
VERSION:2.0
PRODID:-//Centro Cultural Franco Bissau Guineense - ECPv6.1.1//NONSGML v1.0//EN
CALSCALE:GREGORIAN
METHOD:PUBLISH
X-ORIGINAL-URL:https://www.ccfbg.net
X-WR-CALDESC:Events for Centro Cultural Franco Bissau Guineense
REFRESH-INTERVAL;VALUE=DURATION:PT1H
X-Robots-Tag:noindex
X-PUBLISHED-TTL:PT1H
BEGIN:VTIMEZONE
TZID:UTC
BEGIN:STANDARD
TZOFFSETFROM:+0000
TZOFFSETTO:+0000
TZNAME:UTC
DTSTART:20230101T000000
END:STANDARD
END:VTIMEZONE
BEGIN:VEVENT
DTSTART;TZID=UTC:20230707T200000
DTEND;TZID=UTC:20230707T220000
DTSTAMP:20260419T213007
CREATED:20230621T184834Z
LAST-MODIFIED:20230626T154440Z
UID:814-1688760000-1688767200@www.ccfbg.net
SUMMARY:Ballet Nacional apresenta o espetáculo "O Casamento Forçado"\, na sexta-feira\, 7 de Julho\, às 20h
DESCRIPTION:Na sexta-feira\, 7 de Julho\, às 20h o Ballet Nacional está é a nossa pátria amada apresentará no Centro Cultural Franco-Bissau-Guineense o seu último espetáculo\, “O Casamento Forçado”. \nO espetáculo\, que mistura teatro\, dança\, percussões\, canto\, conta a história da jovem Mariama\, apaixonada por um rapaz da sua aldeia mas obrigada a casar com um velho amigo da sua família\, para assegurar o sustento da família. Um momento de emoções para todos os públicos! \nBilhetes a venda no CCFBG e junto com o Ballet Nacional no valor de 1000 XOF\nMais informações: 95 514 80 38
URL:https://www.ccfbg.net/index.php/eventos/ballet-nacional-apresenta-o-espetaculo-o-casamento-forcado-na-quinta-feira-7-de-julho-as-20h/
LOCATION:Centro Cultural Franco-Bissau-Guineense\, Praça Che Guevara\, Bissau\, 129\, Guiné-Bissau
CATEGORIES:CONCERTO,dança,teatro
ATTACH;FMTTYPE=image/jpeg:https://www.ccfbg.net/wp-content/uploads/2023/06/e77edb18-6ce9-465c-9756-c26df9162ef8.jpeg
END:VEVENT
END:VCALENDAR