BEGIN:VCALENDAR
VERSION:2.0
PRODID:-//Centro Cultural Franco Bissau Guineense - ECPv6.1.1//NONSGML v1.0//EN
CALSCALE:GREGORIAN
METHOD:PUBLISH
X-WR-CALNAME:Centro Cultural Franco Bissau Guineense
X-ORIGINAL-URL:https://www.ccfbg.net
X-WR-CALDESC:Events for Centro Cultural Franco Bissau Guineense
REFRESH-INTERVAL;VALUE=DURATION:PT1H
X-Robots-Tag:noindex
X-PUBLISHED-TTL:PT1H
BEGIN:VTIMEZONE
TZID:UTC
BEGIN:STANDARD
TZOFFSETFROM:+0000
TZOFFSETTO:+0000
TZNAME:UTC
DTSTART:20230101T000000
END:STANDARD
END:VTIMEZONE
BEGIN:VEVENT
DTSTART;TZID=UTC:20230601T183000
DTEND;TZID=UTC:20230601T193000
DTSTAMP:20260422T061537
CREATED:20230524T175040Z
LAST-MODIFIED:20230524T175040Z
UID:766-1685644200-1685647800@www.ccfbg.net
SUMMARY:Spectacle jeune public "Petit bout de bois" de la Cie Djarama. Jeudi 1er juin à 18h30 au CCFBG
DESCRIPTION:A l’occasion de la Journée de l’Enfance\, le CCFBG organise le jeudi 1 juin\, à 18h30 une représentation gratuite du spectacle de marionnettes “Petit Bout de Bois” de la Compagnie Sénégalaise Djarama. Ce spectacle tout public raconte la vie de ces petits garçons communément appelés talibés ou enfant des rues. Placés sous la férule d’un marabout sensé leur enseigner le coran ils errent quotidiennement\, dans les quartiers dakarois. Petites bandes quêtant l’obole des passants. Considérés comme les « fantômes de nos rues »\, ces héros malheureux\, touchant d’espièglerie\, peuplent la scène. Chacun\, de par sa singularité\, illustre une aspiration parfois cocasse à l’accomplissement personnel. \nJeudi 1er juin\, 18h30\nAuditorium du CCFBG\nEntrée gratuite\nTout public / 1h
URL:https://www.ccfbg.net/index.php/eventos/spectacle-jeune-public-petit-bout-de-bois-de-la-cie-djarama-jeudi-1er-juin-a-18h30-au-ccfbg/
LOCATION:Centro Cultural Franco-Bissau-Guineense\, Praça Che Guevara\, Bissau\, 129\, Guiné-Bissau
CATEGORIES:crianças e jovens,jeune public,teatro
ATTACH;FMTTYPE=image/jpeg:https://www.ccfbg.net/wp-content/uploads/2023/04/cropped-entAAte_petit-bout-de-bois.jpg
END:VEVENT
END:VCALENDAR