BEGIN:VCALENDAR
VERSION:2.0
PRODID:-//Centro Cultural Franco Bissau Guineense - ECPv6.1.1//NONSGML v1.0//EN
CALSCALE:GREGORIAN
METHOD:PUBLISH
X-WR-CALNAME:Centro Cultural Franco Bissau Guineense
X-ORIGINAL-URL:https://www.ccfbg.net
X-WR-CALDESC:Events for Centro Cultural Franco Bissau Guineense
REFRESH-INTERVAL;VALUE=DURATION:PT1H
X-Robots-Tag:noindex
X-PUBLISHED-TTL:PT1H
BEGIN:VTIMEZONE
TZID:UTC
BEGIN:STANDARD
TZOFFSETFROM:+0000
TZOFFSETTO:+0000
TZNAME:UTC
DTSTART:20230101T000000
END:STANDARD
END:VTIMEZONE
BEGIN:VEVENT
DTSTART;TZID=UTC:20230520T180000
DTEND;TZID=UTC:20230520T200000
DTSTAMP:20260423T022404
CREATED:20230516T164150Z
LAST-MODIFIED:20230516T164150Z
UID:751-1684605600-1684612800@www.ccfbg.net
SUMMARY:POETRY SLAM - CONCURSO DE POESIA\, SÁBADO 20 DE MAIO ÀS 18H NO PÁTIO DO CCFBG
DESCRIPTION:O Poetry Slam é um evento de poesia autoral. Não se usam acessórios (tirando o suporte do texto\, papel ou telemóvel).\nOs poemas não devem ultrapassar 3 minutos.\nO juri é escolhido do público.\nOs participantes devem ter pelo menos 16 anos\, para concorrer (idade não requerida para o microfone aberto\, onde também se pode ler poemas de outros autores).\nAconselha-se aos que querem participar para prepararem três poemas.\nEsta é a segunda das três competições para apurar os finalistas que vão concorrer na final para representar Bissau em outros campeonatos internacionais de 2023/2024 de Slam Poetry.\nO evento é gratuito e livre.\nA inscrição é feita no local\, antes do evento
URL:https://www.ccfbg.net/index.php/eventos/poetry-slam-concurso-de-poesia-sabado-20-de-maio-as-18h-no-patio-do-ccfbg/
LOCATION:Centro Cultural Franco-Bissau-Guineense\, Praça Che Guevara\, Bissau\, 129\, Guiné-Bissau
CATEGORIES:CONCERTO
ATTACH;FMTTYPE=image/jpeg:https://www.ccfbg.net/wp-content/uploads/2023/05/345466981_3570364286531540_6907406023585338226_n.jpg
END:VEVENT
BEGIN:VEVENT
DTSTART;TZID=UTC:20230520T210000
DTEND;TZID=UTC:20230520T223000
DTSTAMP:20260423T022404
CREATED:20230516T164008Z
LAST-MODIFIED:20230516T164008Z
UID:749-1684616400-1684621800@www.ccfbg.net
SUMMARY:Estreia da peça "O homem do caminho"\, de Plínio Marcos. Sábado 20 de Maio às 21h no Auditório do CCFBG
DESCRIPTION:No âmbito do primeiro Festival de Teatro de Bissau\, o CCFBG receberá a peça “O homem do Caminho” coprodução portuguesa da Escola da Noite – Grupo de Teatro de Coimbra e da Associação Cultural Quinta Parede. Os bilhetes estão à venda na Mediática do CCFBG no valor de 1000 XOF.\n\n\n\n\n\n\n–\n\n\n\n\n\n\nO homem do caminho é um monólogo teatral adaptado por Plínio Marcos a partir do conto “Sempre em frente”\, que faz parte do segundo volume de Histórias populares: canções e reflexões de um palhaço\, publicado em 1987.\n\n\n\n\n\n\nCom o mesmo título do monólogo\, o texto foi posteriormente publicado como a terceira parte do livro de memórias circenses de Plínio Marcos\, O truque dos espelhos (1999). É inspirado pelo universo circense e pela cultura cigana\, com os quais\n\n\n\n\n\n\n\nPlínio conviveu de perto no início da sua carreira\, nos seus tempos de palhaço Frajola.\nIur é um dos homens do caminho – anda sem termo\, não teme fazer frente ao mistério – e conta-nos esta história na primeira pessoa. Tem três nomes\, sendo que um deles é desconhecido pelo próprio Iur.\n\n\n\n\n\n\nEssa condição da personagem é uma forma de enganar a morte\, pois quando chegar a sua vez\, ele não vai escutar o chamamento. Declara que um saltimbanco reúne três grandes artes: contar histórias\, ser mestre de enganos\, roubos e ilusões e o sexo. “O homem do caminho” apresenta as artes nómadas como um acto de libertação dos seus públicos\, entre os quais se destacam\, por um lado\, os homens – “fixos” – associados a uma vida rígida\, burocrática e repressiva; e\, por outro lado\, as mulheres – contidas\, desoladas e silenciosas – presas às vidas “secas” ao lado dos “homens-pregos”.\n\n\n\n\n\n\nAs histórias de Iur oferecem uma reflexão sobre poder\, egoísmo\, manipulação\, luta de classes e o sentido da existência humana\, no limbo entre a liberdade e as amarras que a condicionam ou oprimem.\n\n\n\n\n\n\nIngressos a venda na Mediática do CCFBG: 1000 XOF
URL:https://www.ccfbg.net/index.php/eventos/estreia-da-peca-o-homem-do-caminho-de-plinio-marcos-sabado-20-de-maio-as-21h-no-auditorio-do-ccfbg/
LOCATION:Centro Cultural Franco-Bissau-Guineense\, Praça Che Guevara\, Bissau\, 129\, Guiné-Bissau
CATEGORIES:teatro
ATTACH;FMTTYPE=image/jpeg:https://www.ccfbg.net/wp-content/uploads/2023/05/cropped-EN_O-Homem-do-Caminho-01-©-Eduardo-Pinto.jpg
END:VEVENT
END:VCALENDAR