BEGIN:VCALENDAR
VERSION:2.0
PRODID:-//Centro Cultural Franco Bissau Guineense - ECPv6.1.1//NONSGML v1.0//EN
CALSCALE:GREGORIAN
METHOD:PUBLISH
X-ORIGINAL-URL:https://www.ccfbg.net
X-WR-CALDESC:Events for Centro Cultural Franco Bissau Guineense
REFRESH-INTERVAL;VALUE=DURATION:PT1H
X-Robots-Tag:noindex
X-PUBLISHED-TTL:PT1H
BEGIN:VTIMEZONE
TZID:UTC
BEGIN:STANDARD
TZOFFSETFROM:+0000
TZOFFSETTO:+0000
TZNAME:UTC
DTSTART:20230101T000000
END:STANDARD
END:VTIMEZONE
BEGIN:VEVENT
DTSTART;TZID=UTC:20230519T183000
DTEND;TZID=UTC:20230519T193000
DTSTAMP:20260423T040905
CREATED:20230516T163100Z
LAST-MODIFIED:20230516T163100Z
UID:734-1684521000-1684524600@www.ccfbg.net
SUMMARY:Ciclo de conversas #3 com Adama Baldé\, Naentrem Sanca\, Marinho Pina\, Sexta-feira 19 de Maio às 18h30 na Galeria do CCFBG
DESCRIPTION:As construções sociais regram comportamentos\, definem as nossas interações e fazem girar as nossas sociedades. Todavia\, nem todas elas são boas ou fazem sentido nos tempos hodiernos\, razão porque algumas devem ser desconstruídas\, reconstruídas ou mesmo destruídas.Matchundadi é só uma das muitas construções sociais e comportamentais que regem as nossas sociedades\, e é aquela que vamos discutir neste ciclo\, considerando os problemas que causa e o papel que joga neste mundo do patriarcado.Vamos ter a primeira de um ciclo de conversas sobre o tema nesta sexta-feira\, dia 19 de maio\, pelas 18:30\, no Centro Cultural Franco-Bissau-Guineense.\nEntrada gratuita
URL:https://www.ccfbg.net/index.php/eventos/ciclo-de-conversas-3-com-adama-balde-naentrem-sanca-marinho-pina-sexta-feira-19-de-maio-as-18h30-na-galeria-do-ccfbg/
LOCATION:Centro Cultural Franco-Bissau-Guineense\, Praça Che Guevara\, Bissau\, 129\, Guiné-Bissau
CATEGORIES:Conferência
ATTACH;FMTTYPE=image/jpeg:https://www.ccfbg.net/wp-content/uploads/2023/05/46fb5f2f-c8aa-417d-9c29-a718d9cddd06-1.jpeg
END:VEVENT
BEGIN:VEVENT
DTSTART;TZID=UTC:20230519T190000
DTEND;TZID=UTC:20230519T210000
DTSTAMP:20260423T040905
CREATED:20230516T163601Z
LAST-MODIFIED:20230516T163601Z
UID:743-1684522800-1684530000@www.ccfbg.net
SUMMARY:Projeção do filme de Flora Gomes "Po di sangui"\, sexta-feira 19/05\, 19h no Auditório do CCFBG. Sessão seguida dum debate (Bacar Banora\, Lizidoria Mendes e Tamilton Teixeira)
DESCRIPTION:A projeção do longa “Po di sangui” acontece no âmbito da Mostra de Arte e Cultura da Guinée Bissau (MOAC BISS).\n\n\n\n\n\n\nSinopse: na aldeia de Amanha Lundju planta-se uma árvore sempre que nasce uma criança. Essas árvores crescem com a criança\, ultrapassam-na\, sobrevivem-lhe e tornam-se a alma dos habitantes da aldeia. Mas para sobreviver\, dia após dia\, à falta de madeira\, cortam-se as árvores. Há-de vir o dia da seca e da morte. Hami acaba de morrer quando Dou\, o seu gémeo nómada\, regressa da savana encontrando a aldeia extremamente tensa. De que morreu Hami? Que mal corrói Amanha Lundju?\nA tradição exige que Dou ocupe o lugar do seu duplo desaparecido junto da mulher e da filha deste. A sua jovem prometida\, Sally\, enlouquece e apaixona-se pelo sol.\nA desordem instala-se quando chegam os lenhadores da cidade. O velho feiticeiro\, Calacalado\, ordena o êxodo. Seguem para o deserto numa viagem iniciática. Mas o nascimento de uma criança trá-los de volta à aldeia a fim de plantar uma árvore\n\n\n\n\n\n\nEntrada gratuita
URL:https://www.ccfbg.net/index.php/eventos/projecao-do-filme-de-flora-gomes-po-di-sangui-sexta-feira-19-05-19h-no-auditorio-do-ccfbg-sessao-seguida-dum-debate-bacar-banora-lizidoria-mendes-e-tamilton-teixeira/
LOCATION:Centro Cultural Franco-Bissau-Guineense\, Praça Che Guevara\, Bissau\, 129\, Guiné-Bissau
ATTACH;FMTTYPE=image/jpeg:https://www.ccfbg.net/wp-content/uploads/2023/05/MV5BNGYyN2UzYjktODc2OC00ZmMwLWE2M2YtNmFmZmE5OTAzOTNjXkEyXkFqcGdeQXVyNzM0MDQ1Mw@@._V1_FMjpg_UX1000_.jpg
END:VEVENT
END:VCALENDAR