BEGIN:VCALENDAR
VERSION:2.0
PRODID:-//Centro Cultural Franco Bissau Guineense - ECPv6.1.1//NONSGML v1.0//EN
CALSCALE:GREGORIAN
METHOD:PUBLISH
X-ORIGINAL-URL:https://www.ccfbg.net
X-WR-CALDESC:Events for Centro Cultural Franco Bissau Guineense
REFRESH-INTERVAL;VALUE=DURATION:PT1H
X-Robots-Tag:noindex
X-PUBLISHED-TTL:PT1H
BEGIN:VTIMEZONE
TZID:UTC
BEGIN:STANDARD
TZOFFSETFROM:+0000
TZOFFSETTO:+0000
TZNAME:UTC
DTSTART:20230101T000000
END:STANDARD
END:VTIMEZONE
BEGIN:VEVENT
DTSTART;TZID=UTC:20230516T200000
DTEND;TZID=UTC:20230516T213000
DTSTAMP:20260423T091912
CREATED:20230516T162701Z
LAST-MODIFIED:20230516T162701Z
UID:731-1684267200-1684272600@www.ccfbg.net
SUMMARY:Apresentação da peça “A Mulher é Sagrada” da Cooperativa Cultural “Os Fidalgos”
DESCRIPTION:Apresentação da peça “A Mulher é Sagrada” da Cooperativa Cultural “Os Fidalgos”\, Terça-feira\, 16/05/2023 às 20h no Auditório do CCFBG\nNo âmbito do primeiro Festival de Teatro de Bissau\, o CCFBG recebe a peça “A Mulher é Sagrada” da Cooperativa Cultural Os Fidalgos. A peça conta a historia de Mariana\, vitima de mau tratos e exploração sexual por parte dum homem mais velho\, que a raptou e levou no mato. Será salva por um rapaz que se apaixonará por ela. Inédita em Bissau\, a peça foi apresentada pelos Fidalgos em Macau em 2018.\nEntrada gratuita
URL:https://www.ccfbg.net/index.php/eventos/apresentacao-da-peca-a-mulher-e-sagrada-da-cooperativa-cultural-os-fidalgos/
LOCATION:Centro Cultural Franco-Bissau-Guineense\, Praça Che Guevara\, Bissau\, 129\, Guiné-Bissau
CATEGORIES:teatro
ATTACH;FMTTYPE=image/jpeg:https://www.ccfbg.net/wp-content/uploads/2023/05/31cc4da4-f779-45d1-bd16-e22c7f3fe524-scaled.jpeg
END:VEVENT
END:VCALENDAR