BEGIN:VCALENDAR
VERSION:2.0
PRODID:-//Centro Cultural Franco Bissau Guineense - ECPv6.1.1//NONSGML v1.0//EN
CALSCALE:GREGORIAN
METHOD:PUBLISH
X-WR-CALNAME:Centro Cultural Franco Bissau Guineense
X-ORIGINAL-URL:https://www.ccfbg.net
X-WR-CALDESC:Events for Centro Cultural Franco Bissau Guineense
REFRESH-INTERVAL;VALUE=DURATION:PT1H
X-Robots-Tag:noindex
X-PUBLISHED-TTL:PT1H
BEGIN:VTIMEZONE
TZID:UTC
BEGIN:STANDARD
TZOFFSETFROM:+0000
TZOFFSETTO:+0000
TZNAME:UTC
DTSTART:20230101T000000
END:STANDARD
END:VTIMEZONE
BEGIN:VEVENT
DTSTART;TZID=UTC:20230512T210000
DTEND;TZID=UTC:20230512T230000
DTSTAMP:20260423T160158
CREATED:20230406T164949Z
LAST-MODIFIED:20230406T165831Z
UID:650-1683925200-1683932400@www.ccfbg.net
SUMMARY:Concerto de Eneida Marta & Banda\, sexta-feira\, 12 de Maio\, 21h
DESCRIPTION:Na sexta-feira\, 12 de Maio\, às 21h Eneida Marta apresentará no CCFBG o seu novo álbum “Family”. Os ingressos já estão à venda no CCFBG com um valor antecipado de 8000 XOF para o público geral e 4000 XOF para os estudantes universitários (quantidade limitada/mediante apresentação de comprovativo na compra e no dia do evento). No dia do evento\, os ingressos estarão a venda no valor de 10.000 XOF.\nÉ um dos grandes discos de World Music lançados em 2022. “FAMILY”\, o sexto trabalho de originais da voz da Guiné-Bissau\,  foi editado em outubro deste ano e tem merecido rasgados elogios por parte da media\, um por todo o mundo:  da Carolina do Norte\, nos EUA à Grécia\, de Cabo Verde a New Mexico\, de Bissau à Chéquia. \n“FAMILY ”é o sexto trabalho de originais de Eneida Marta\, e começou a nascer em plena pandemia.  Foi produzido por Ruben Azziz e Gerson Marta e traz-nos canções como  “Kuma”\, “Allan Guiné” ou o mais recente “Fidalgo” que é já um tema marcante na música do século XXI oriunda de África. Ver vídeo aqui \n“FAMILY”\, mereceu entrada direta para o TOP 20 das Transglobal Charts\, o top mais importante\, a nível internacional\, de rádios de World Music\, ocupando neste momento o 11º lugar\, e esta semana está destacada também nos World Music Charts Europe.
URL:https://www.ccfbg.net/index.php/eventos/concerto-de-eneida-marta-banda-sexta-feira-12-de-maio-21h/
LOCATION:Centro Cultural Franco-Bissau-Guineense\, Praça Che Guevara\, Bissau\, 129\, Guiné-Bissau
CATEGORIES:CONCERTO
ATTACH;FMTTYPE=image/jpeg:https://www.ccfbg.net/wp-content/uploads/2023/04/dd7d8b20-a6cd-48d0-b5cd-71ba786b7cf6-scaled.jpeg
END:VEVENT
END:VCALENDAR