BEGIN:VCALENDAR
VERSION:2.0
PRODID:-//Centro Cultural Franco Bissau Guineense - ECPv6.1.1//NONSGML v1.0//EN
CALSCALE:GREGORIAN
METHOD:PUBLISH
X-WR-CALNAME:Centro Cultural Franco Bissau Guineense
X-ORIGINAL-URL:https://www.ccfbg.net
X-WR-CALDESC:Events for Centro Cultural Franco Bissau Guineense
REFRESH-INTERVAL;VALUE=DURATION:PT1H
X-Robots-Tag:noindex
X-PUBLISHED-TTL:PT1H
BEGIN:VTIMEZONE
TZID:UTC
BEGIN:STANDARD
TZOFFSETFROM:+0000
TZOFFSETTO:+0000
TZNAME:UTC
DTSTART:20230101T000000
END:STANDARD
END:VTIMEZONE
BEGIN:VEVENT
DTSTART;TZID=UTC:20230510T190000
DTEND;TZID=UTC:20230510T210000
DTSTAMP:20260423T190815
CREATED:20230504T145657Z
LAST-MODIFIED:20230504T145657Z
UID:682-1683745200-1683752400@www.ccfbg.net
SUMMARY:Desfile de Moda "Panu di Pinti" de Queen Titine
DESCRIPTION:Desfile de Moda\nPanu di Pinti\n10 de maio\, das 19h00 às 21h00\nArtista: Queen Titíne\nLugar: ccfbg/bissau\nNo âmbito da MOAC BISS\n–\nQueen Titine / Maria Cristina Martins Correia Grant\n(Bissau\, 1978)\, é estilista\, fundadora\, CEO e Directora Criativa da marca Queen Titíne. Marca inspirada na mãe que carrega um legando de coragem\, de tenacidade\, resiliência e sobretudo\, do Amor. Aos 12 anos\, passou a viver com seus tios. \nEm 1993 começou a trabalhar no seu primeiro emprego como assistente na cabeleireira duma tia. Uma positiva experiência da sua carreira\, permitindo descobrir processos e técnicas. Sempre esteve perto da moda nas suas diferentes vertentes: cabeleireiros\, alfaiates\, desfiles de moda\, etc. Um mundo feminino\, um mundo de excelência! Despertou-lhe a curiosidade sobre a excelência e capacidade criativa com o pano africano. Em especial o ‘Pano di Pinti’ guineense. Lançou oficialmente a sua marca QUEEN TITÍNE\, a 17 Junho de 2022. Abrindo simultaneamente um shop-online e um Showroom baseado em Ibiza.
URL:https://www.ccfbg.net/index.php/eventos/desfile-de-moda-panu-di-pinti-de-queen-titine/
LOCATION:Centro Cultural Franco-Bissau-Guineense\, Praça Che Guevara\, Bissau\, 129\, Guiné-Bissau
CATEGORIES:Design,moda,Mode
ATTACH;FMTTYPE=image/jpeg:https://www.ccfbg.net/wp-content/uploads/2023/05/Z.jpeg
END:VEVENT
END:VCALENDAR