BEGIN:VCALENDAR
VERSION:2.0
PRODID:-//Centro Cultural Franco Bissau Guineense - ECPv6.1.1//NONSGML v1.0//EN
CALSCALE:GREGORIAN
METHOD:PUBLISH
X-ORIGINAL-URL:https://www.ccfbg.net
X-WR-CALDESC:Events for Centro Cultural Franco Bissau Guineense
REFRESH-INTERVAL;VALUE=DURATION:PT1H
X-Robots-Tag:noindex
X-PUBLISHED-TTL:PT1H
BEGIN:VTIMEZONE
TZID:UTC
BEGIN:STANDARD
TZOFFSETFROM:+0000
TZOFFSETTO:+0000
TZNAME:UTC
DTSTART:20230101T000000
END:STANDARD
END:VTIMEZONE
BEGIN:VEVENT
DTSTART;TZID=UTC:20230428T190000
DTEND;TZID=UTC:20230428T223000
DTSTAMP:20260424T140300
CREATED:20230406T173333Z
LAST-MODIFIED:20230407T154522Z
UID:658-1682708400-1682721000@www.ccfbg.net
SUMMARY:Noite de Dança e Jazz\, anos 60 e 70
DESCRIPTION:Na sexta-feira\, 28 de Abril\, às 19h o Centro Cultural Franco Bissau Guineense organiza uma grande festa para reviver os anos 60 e celebrar o Dia Mundial da Dança e o Dia Mundial do Jazz. A Orquestra Afro Jazz apresentará uma seleção de grandes sucessos do jazz guineense (notadamente com músicas de Cobiana Jazz) e professores de dança irão lhe mostrar as danças daquele tempo e lhe convidar a dançar. Venha curtir esse momento de arte vivida\, no Patio do CCFBG. Convide os seus amigos e use o seu melhor look vintage. Os melhores trajes serão premiados!Bilhetes a venda no Centro Cultural Franco-Bissau-Guineense no valor de 2000 XOF. Informações: 95 514 80 38
URL:https://www.ccfbg.net/index.php/eventos/noite-de-danca-e-jazz-anos-60-e-70/
LOCATION:Centro Cultural Franco-Bissau-Guineense\, Praça Che Guevara\, Bissau\, 129\, Guiné-Bissau
CATEGORIES:CONCERTO,dança
ATTACH;FMTTYPE=image/jpeg:https://www.ccfbg.net/wp-content/uploads/2023/04/9dd699d1-ad41-4be2-a769-0c6eb6a1e7ff-scaled.jpeg
END:VEVENT
END:VCALENDAR